BEGIN:VCALENDAR
VERSION:2.0
PRODID:-//Brookfield Conference Center - ECPv6.15.20//NONSGML v1.0//EN
CALSCALE:GREGORIAN
METHOD:PUBLISH
X-WR-CALNAME:Brookfield Conference Center
X-ORIGINAL-URL:https://www.brookfieldconferencecenter.com
X-WR-CALDESC:Events for Brookfield Conference Center
REFRESH-INTERVAL;VALUE=DURATION:PT1H
X-Robots-Tag:noindex
X-PUBLISHED-TTL:PT1H
BEGIN:VTIMEZONE
TZID:America/Chicago
BEGIN:DAYLIGHT
TZOFFSETFROM:-0600
TZOFFSETTO:-0500
TZNAME:CDT
DTSTART:20220313T080000
END:DAYLIGHT
BEGIN:STANDARD
TZOFFSETFROM:-0500
TZOFFSETTO:-0600
TZNAME:CST
DTSTART:20221106T070000
END:STANDARD
BEGIN:DAYLIGHT
TZOFFSETFROM:-0600
TZOFFSETTO:-0500
TZNAME:CDT
DTSTART:20230312T080000
END:DAYLIGHT
BEGIN:STANDARD
TZOFFSETFROM:-0500
TZOFFSETTO:-0600
TZNAME:CST
DTSTART:20231105T070000
END:STANDARD
BEGIN:DAYLIGHT
TZOFFSETFROM:-0600
TZOFFSETTO:-0500
TZNAME:CDT
DTSTART:20240310T080000
END:DAYLIGHT
BEGIN:STANDARD
TZOFFSETFROM:-0500
TZOFFSETTO:-0600
TZNAME:CST
DTSTART:20241103T070000
END:STANDARD
BEGIN:DAYLIGHT
TZOFFSETFROM:-0600
TZOFFSETTO:-0500
TZNAME:CDT
DTSTART:20250309T080000
END:DAYLIGHT
BEGIN:STANDARD
TZOFFSETFROM:-0500
TZOFFSETTO:-0600
TZNAME:CST
DTSTART:20251102T070000
END:STANDARD
BEGIN:DAYLIGHT
TZOFFSETFROM:-0600
TZOFFSETTO:-0500
TZNAME:CDT
DTSTART:20260308T080000
END:DAYLIGHT
BEGIN:STANDARD
TZOFFSETFROM:-0500
TZOFFSETTO:-0600
TZNAME:CST
DTSTART:20261101T070000
END:STANDARD
BEGIN:DAYLIGHT
TZOFFSETFROM:-0600
TZOFFSETTO:-0500
TZNAME:CDT
DTSTART:20270314T080000
END:DAYLIGHT
BEGIN:STANDARD
TZOFFSETFROM:-0500
TZOFFSETTO:-0600
TZNAME:CST
DTSTART:20271107T070000
END:STANDARD
END:VTIMEZONE
BEGIN:VEVENT
DTSTART;VALUE=DATE:20260428
DTEND;VALUE=DATE:20260430
DTSTAMP:20260422T182414
CREATED:20260331T163840Z
LAST-MODIFIED:20260331T164233Z
UID:3478-1777334400-1777507199@www.brookfieldconferencecenter.com
SUMMARY:Experience Inbound 2026
DESCRIPTION:
URL:https://www.brookfieldconferencecenter.com/event/experience-inbound-2026/
LOCATION:Brookfield Conference Center\, 325 S. Moorland Rd.\, BROOKFIELD\, WI\, 53005\, United States
ATTACH;FMTTYPE=image/webp:https://www.brookfieldconferencecenter.com/wp-content/uploads/2026/03/EI25-GB_Stream-Team.webp
END:VEVENT
BEGIN:VEVENT
DTSTART;TZID=America/Chicago:20260409T170000
DTEND;TZID=America/Chicago:20260409T210000
DTSTAMP:20260422T182414
CREATED:20260331T161605Z
LAST-MODIFIED:20260331T164338Z
UID:3475-1775754000-1775768400@www.brookfieldconferencecenter.com
SUMMARY:Laugh for a Smile
DESCRIPTION:
URL:https://www.brookfieldconferencecenter.com/event/laugh-for-a-smile/
LOCATION:Brookfield Conference Center\, 325 S. Moorland Rd.\, BROOKFIELD\, WI\, 53005\, United States
ATTACH;FMTTYPE=image/png:https://www.brookfieldconferencecenter.com/wp-content/uploads/2026/03/laugh-for-a-smile.png
END:VEVENT
BEGIN:VEVENT
DTSTART;TZID=America/Chicago:20260408T150000
DTEND;TZID=America/Chicago:20260408T180000
DTSTAMP:20260422T182414
CREATED:20260401T175629Z
LAST-MODIFIED:20260401T175730Z
UID:3486-1775660400-1775671200@www.brookfieldconferencecenter.com
SUMMARY:IBEW Electrical Job Fair
DESCRIPTION:
URL:https://www.brookfieldconferencecenter.com/event/ibew-electrical-job-fair/
LOCATION:Brookfield Conference Center\, 325 S. Moorland Rd.\, BROOKFIELD\, WI\, 53005\, United States
ATTACH;FMTTYPE=image/jpeg:https://www.brookfieldconferencecenter.com/wp-content/uploads/2026/04/IBEW-494-Job-Fair-Flyer-01-2026-PROOF-002_Page_1-scaled.jpg
END:VEVENT
BEGIN:VEVENT
DTSTART;TZID=America/Chicago:20260303T100000
DTEND;TZID=America/Chicago:20260307T200000
DTSTAMP:20260422T182414
CREATED:20250722T174248Z
LAST-MODIFIED:20260109T174217Z
UID:3362-1772532000-1772913600@www.brookfieldconferencecenter.com
SUMMARY:Divine Consign
DESCRIPTION:
URL:https://www.brookfieldconferencecenter.com/event/divine-consign-7/
LOCATION:Brookfield Conference Center\, 325 S. Moorland Rd.\, BROOKFIELD\, WI\, 53005\, United States
ATTACH;FMTTYPE=image/jpeg:https://www.brookfieldconferencecenter.com/wp-content/uploads/2025/07/787D8EA6-D0DE-4D4A-AFA2-818EAE15D796.jpg
END:VEVENT
BEGIN:VEVENT
DTSTART;TZID=America/Chicago:20260214T100000
DTEND;TZID=America/Chicago:20260214T150000
DTSTAMP:20260422T182414
CREATED:20260209T194940Z
LAST-MODIFIED:20260209T194940Z
UID:3438-1771063200-1771081200@www.brookfieldconferencecenter.com
SUMMARY:SCI WI Grand Banquet & Fundraiser
DESCRIPTION:
URL:https://www.brookfieldconferencecenter.com/event/sci-wi-grand-banquet-fundraiser/
LOCATION:Brookfield Conference Center\, 325 S. Moorland Rd.\, BROOKFIELD\, WI\, 53005\, United States
ATTACH;FMTTYPE=image/png:https://www.brookfieldconferencecenter.com/wp-content/uploads/2026/02/2026_Banquet_Logo_Color-768x768-1.png
END:VEVENT
BEGIN:VEVENT
DTSTART;TZID=America/Chicago:20260116T150000
DTEND;TZID=America/Chicago:20260118T150000
DTSTAMP:20260422T182414
CREATED:20250821T145721Z
LAST-MODIFIED:20250821T145721Z
UID:3404-1768575600-1768748400@www.brookfieldconferencecenter.com
SUMMARY:All Canada Show
DESCRIPTION:
URL:https://www.brookfieldconferencecenter.com/event/all-canada-show-3/
LOCATION:Brookfield Conference Center\, 325 S. Moorland Rd.\, BROOKFIELD\, WI\, 53005\, United States
ATTACH;FMTTYPE=image/jpeg:https://www.brookfieldconferencecenter.com/wp-content/uploads/2025/08/all-canada-show.jpg
ORGANIZER;CN="All Canada Show":MAILTO:info@allcanada.com
END:VEVENT
BEGIN:VEVENT
DTSTART;TZID=America/Chicago:20251128T080000
DTEND;TZID=America/Chicago:20251128T170000
DTSTAMP:20260422T182414
CREATED:20251028T204742Z
LAST-MODIFIED:20251028T204742Z
UID:3427-1764316800-1764349200@www.brookfieldconferencecenter.com
SUMMARY:Perfectly Imperfect Holiday Makers Market
DESCRIPTION:
URL:https://www.brookfieldconferencecenter.com/event/perfectly-imperfect/
LOCATION:Brookfield Conference Center\, 325 S. Moorland Rd.\, BROOKFIELD\, WI\, 53005\, United States
ATTACH;FMTTYPE=image/jpeg:https://www.brookfieldconferencecenter.com/wp-content/uploads/2025/10/holiday-market.jpeg
ORGANIZER;CN="Perfectly Imperfect 4 You":MAILTO:perfectlyimperfect4yousigns@gmail.com
END:VEVENT
BEGIN:VEVENT
DTSTART;TZID=America/Chicago:20251115T084500
DTEND;TZID=America/Chicago:20251115T170000
DTSTAMP:20260422T182414
CREATED:20250820T201506Z
LAST-MODIFIED:20250820T201506Z
UID:3400-1763196300-1763226000@www.brookfieldconferencecenter.com
SUMMARY:Women of Christ Conference
DESCRIPTION:
URL:https://www.brookfieldconferencecenter.com/event/women-of-christ-conference/
LOCATION:Brookfield Conference Center\, 325 S. Moorland Rd.\, BROOKFIELD\, WI\, 53005\, United States
ATTACH;FMTTYPE=image/png:https://www.brookfieldconferencecenter.com/wp-content/uploads/2025/08/AnchoredInHopeBanner2-scaled-1.png
END:VEVENT
BEGIN:VEVENT
DTSTART;TZID=America/Chicago:20251104T090000
DTEND;TZID=America/Chicago:20251104T133000
DTSTAMP:20260422T182414
CREATED:20250930T181933Z
LAST-MODIFIED:20250930T182204Z
UID:3416-1762246800-1762263000@www.brookfieldconferencecenter.com
SUMMARY:WWBIC 2025 Annual Celebration
DESCRIPTION:
URL:https://www.brookfieldconferencecenter.com/event/wwbic-2025-annual-celebration/
LOCATION:Brookfield Conference Center\, 325 S. Moorland Rd.\, BROOKFIELD\, WI\, 53005\, United States
ATTACH;FMTTYPE=image/png:https://www.brookfieldconferencecenter.com/wp-content/uploads/2025/09/WWBIC-event.png
ORGANIZER;CN="Wisconsin Women%E2%80%99s Business Initiative Corporation":MAILTO:info@wwbic.com
END:VEVENT
BEGIN:VEVENT
DTSTART;TZID=America/Chicago:20251025T100000
DTEND;TZID=America/Chicago:20251025T170000
DTSTAMP:20260422T182414
CREATED:20250926T190341Z
LAST-MODIFIED:20250926T190341Z
UID:3412-1761386400-1761411600@www.brookfieldconferencecenter.com
SUMMARY:Holistic Healing & Wellness Event
DESCRIPTION:
URL:https://www.brookfieldconferencecenter.com/event/holistic-healing-wellness-event/
LOCATION:Brookfield Conference Center\, 325 S. Moorland Rd.\, BROOKFIELD\, WI\, 53005\, United States
ATTACH;FMTTYPE=image/jpeg:https://www.brookfieldconferencecenter.com/wp-content/uploads/2025/09/BCC-event-OCT.jpg
ORGANIZER;CN="Rooted Holistic Healing & Wellness Fairs":MAILTO:pocernichsandy@gmail.com
END:VEVENT
BEGIN:VEVENT
DTSTART;TZID=America/Chicago:20250904T190000
DTEND;TZID=America/Chicago:20250904T233000
DTSTAMP:20260422T182414
CREATED:20250722T181403Z
LAST-MODIFIED:20250722T181615Z
UID:3369-1757012400-1757028600@www.brookfieldconferencecenter.com
SUMMARY:Archdiocese of Milwaukee Pallium Lecture
DESCRIPTION:
URL:https://www.brookfieldconferencecenter.com/event/pallium-lecture/
LOCATION:Brookfield Conference Center\, 325 S. Moorland Rd.\, BROOKFIELD\, WI\, 53005\, United States
ATTACH;FMTTYPE=image/png:https://www.brookfieldconferencecenter.com/wp-content/uploads/2025/07/ArchLogo.png
END:VEVENT
BEGIN:VEVENT
DTSTART;VALUE=DATE:20250814
DTEND;VALUE=DATE:20250817
DTSTAMP:20260422T182414
CREATED:20250722T180156Z
LAST-MODIFIED:20250722T180345Z
UID:3365-1755129600-1755388799@www.brookfieldconferencecenter.com
SUMMARY:Fred Astaire 2025 Wisconsin Grand Championships
DESCRIPTION:
URL:https://www.brookfieldconferencecenter.com/event/fredastaire-2025championships/
LOCATION:Brookfield Conference Center\, 325 S. Moorland Rd.\, BROOKFIELD\, WI\, 53005\, United States
ATTACH;FMTTYPE=image/webp:https://www.brookfieldconferencecenter.com/wp-content/uploads/2025/07/2025-WISCONSIN-grand-champs.webp
ORGANIZER;CN="Fred Astaire Dance Studios":MAILTO:corporate@fredastaire.com
END:VEVENT
BEGIN:VEVENT
DTSTART;TZID=America/Chicago:20250412T100000
DTEND;TZID=America/Chicago:20250412T170000
DTSTAMP:20260422T182414
CREATED:20250314T211838Z
LAST-MODIFIED:20250318T132338Z
UID:3333-1744452000-1744477200@www.brookfieldconferencecenter.com
SUMMARY:Dare to be Aware Fair
DESCRIPTION:
URL:https://www.brookfieldconferencecenter.com/event/dare-to-be-aware-fair-2/
LOCATION:Brookfield Conference Center\, 325 S. Moorland Rd.\, BROOKFIELD\, WI\, 53005\, United States
ATTACH;FMTTYPE=image/jpeg:https://www.brookfieldconferencecenter.com/wp-content/uploads/2025/03/Dare-Fair-Logo-clean.jpg
END:VEVENT
BEGIN:VEVENT
DTSTART;TZID=America/Chicago:20241129T100000
DTEND;TZID=America/Chicago:20241129T150000
DTSTAMP:20260422T182414
CREATED:20241029T215123Z
LAST-MODIFIED:20241029T215410Z
UID:3300-1732874400-1732892400@www.brookfieldconferencecenter.com
SUMMARY:Holiday Market
DESCRIPTION:
URL:https://www.brookfieldconferencecenter.com/event/holiday-market/
LOCATION:Brookfield Conference Center\, 325 S. Moorland Rd.\, BROOKFIELD\, WI\, 53005\, United States
ATTACH;FMTTYPE=image/png:https://www.brookfieldconferencecenter.com/wp-content/uploads/2024/10/Holiday-Market-Ad-2-4-x-4-in.png
ORGANIZER;CN="Perfectly Imperfect 4 You":MAILTO:perfectlyimperfect4yousigns@gmail.com
END:VEVENT
BEGIN:VEVENT
DTSTART;VALUE=DATE:20240922
DTEND;VALUE=DATE:20240929
DTSTAMP:20260422T182414
CREATED:20230912T181322Z
LAST-MODIFIED:20230912T181322Z
UID:2517-1726963200-1727567999@www.brookfieldconferencecenter.com
SUMMARY:Divine Consign
DESCRIPTION:
URL:https://www.brookfieldconferencecenter.com/event/divine-consign-6/
LOCATION:Brookfield Conference Center\, 325 S. Moorland Rd.\, BROOKFIELD\, WI\, 53005\, United States
END:VEVENT
BEGIN:VEVENT
DTSTART;VALUE=DATE:20240920
DTEND;VALUE=DATE:20240922
DTSTAMP:20260422T182414
CREATED:20230912T181206Z
LAST-MODIFIED:20230912T181206Z
UID:2515-1726790400-1726963199@www.brookfieldconferencecenter.com
SUMMARY:Milcopex
DESCRIPTION:
URL:https://www.brookfieldconferencecenter.com/event/milcopex/
LOCATION:Brookfield Conference Center\, 325 S. Moorland Rd.\, BROOKFIELD\, WI\, 53005\, United States
END:VEVENT
BEGIN:VEVENT
DTSTART;VALUE=DATE:20240611
DTEND;VALUE=DATE:20240612
DTSTAMP:20260422T182414
CREATED:20230912T180930Z
LAST-MODIFIED:20230912T180930Z
UID:2512-1718064000-1718150399@www.brookfieldconferencecenter.com
SUMMARY:2024 Active Aging Senior Symposium
DESCRIPTION:
URL:https://www.brookfieldconferencecenter.com/event/2024-active-aging-senior-symposium/
LOCATION:Brookfield Conference Center\, 325 S. Moorland Rd.\, BROOKFIELD\, WI\, 53005\, United States
ORGANIZER;CN="Capri Communities":MAILTO:info@capricommunities.com
END:VEVENT
BEGIN:VEVENT
DTSTART;VALUE=DATE:20240511
DTEND;VALUE=DATE:20240512
DTSTAMP:20260422T182414
CREATED:20230912T180105Z
LAST-MODIFIED:20230912T180105Z
UID:2510-1715385600-1715471999@www.brookfieldconferencecenter.com
SUMMARY:2024 Dare To Be Aware Fair
DESCRIPTION:
URL:https://www.brookfieldconferencecenter.com/event/2024-dare-to-be-aware-fair/
LOCATION:Brookfield Conference Center\, 325 S. Moorland Rd.\, BROOKFIELD\, WI\, 53005\, United States
END:VEVENT
BEGIN:VEVENT
DTSTART;TZID=America/Chicago:20240413T180000
DTEND;TZID=America/Chicago:20240413T220000
DTSTAMP:20260422T182414
CREATED:20240320T162954Z
LAST-MODIFIED:20240320T163054Z
UID:2911-1713031200-1713045600@www.brookfieldconferencecenter.com
SUMMARY:PLAY for FUNdraising
DESCRIPTION:
URL:https://www.brookfieldconferencecenter.com/event/play-for-fundraising/
LOCATION:Brookfield Conference Center\, 325 S. Moorland Rd.\, BROOKFIELD\, WI\, 53005\, United States
END:VEVENT
BEGIN:VEVENT
DTSTART;VALUE=DATE:20240316
DTEND;VALUE=DATE:20240317
DTSTAMP:20260422T182414
CREATED:20230912T175928Z
LAST-MODIFIED:20230912T175928Z
UID:2508-1710547200-1710633599@www.brookfieldconferencecenter.com
SUMMARY:Holistic Healing & Wellness Fair
DESCRIPTION:
URL:https://www.brookfieldconferencecenter.com/event/holistic-healing-wellness-fair/
LOCATION:Brookfield Conference Center\, 325 S. Moorland Rd.\, BROOKFIELD\, WI\, 53005\, United States
END:VEVENT
BEGIN:VEVENT
DTSTART;VALUE=DATE:20240310
DTEND;VALUE=DATE:20240317
DTSTAMP:20260422T182414
CREATED:20230912T173437Z
LAST-MODIFIED:20230912T173437Z
UID:2501-1710028800-1710633599@www.brookfieldconferencecenter.com
SUMMARY:Divine Consign
DESCRIPTION:
URL:https://www.brookfieldconferencecenter.com/event/divine-consign-5/
LOCATION:Brookfield Conference Center\, 325 S. Moorland Rd.\, BROOKFIELD\, WI\, 53005\, United States
END:VEVENT
BEGIN:VEVENT
DTSTART;VALUE=DATE:20240208
DTEND;VALUE=DATE:20240212
DTSTAMP:20260422T182414
CREATED:20230912T173206Z
LAST-MODIFIED:20230912T173206Z
UID:2499-1707350400-1707695999@www.brookfieldconferencecenter.com
SUMMARY:Safari Club International- Wisconsin Chapter Big Game Grand Banquet
DESCRIPTION:
URL:https://www.brookfieldconferencecenter.com/event/safari-club-international-wisconsin-chapter-big-game-grand-banquet/
LOCATION:Brookfield Conference Center\, 325 S. Moorland Rd.\, BROOKFIELD\, WI\, 53005\, United States
END:VEVENT
BEGIN:VEVENT
DTSTART;VALUE=DATE:20240118
DTEND;VALUE=DATE:20240122
DTSTAMP:20260422T182414
CREATED:20230912T172416Z
LAST-MODIFIED:20230912T172416Z
UID:2495-1705536000-1705881599@www.brookfieldconferencecenter.com
SUMMARY:All Canada Show
DESCRIPTION:
URL:https://www.brookfieldconferencecenter.com/event/all-canada-show-2/
LOCATION:Brookfield Conference Center\, 325 S. Moorland Rd.\, BROOKFIELD\, WI\, 53005\, United States
END:VEVENT
BEGIN:VEVENT
DTSTART;TZID=America/Chicago:20231124T100000
DTEND;TZID=America/Chicago:20231124T160000
DTSTAMP:20260422T182414
CREATED:20230907T211731Z
LAST-MODIFIED:20230907T211731Z
UID:2475-1700820000-1700841600@www.brookfieldconferencecenter.com
SUMMARY:Perfectly Imperfect Holiday Maker's Market
DESCRIPTION:
URL:https://www.brookfieldconferencecenter.com/event/perfectly-imperfect-holiday-makers-market/
LOCATION:Brookfield Conference Center\, 325 S. Moorland Rd.\, BROOKFIELD\, WI\, 53005\, United States
ORGANIZER;CN="Perfectly Imperfect 4 You":MAILTO:perfectlyimperfect4yousigns@gmail.com
END:VEVENT
BEGIN:VEVENT
DTSTART;VALUE=DATE:20231118
DTEND;VALUE=DATE:20231119
DTSTAMP:20260422T182414
CREATED:20230907T212329Z
LAST-MODIFIED:20230907T212329Z
UID:2482-1700265600-1700351999@www.brookfieldconferencecenter.com
SUMMARY:Women of Christ
DESCRIPTION:
URL:https://www.brookfieldconferencecenter.com/event/women-of-christ/
LOCATION:Brookfield Conference Center\, 325 S. Moorland Rd.\, BROOKFIELD\, WI\, 53005\, United States
END:VEVENT
BEGIN:VEVENT
DTSTART;TZID=America/Chicago:20231104T100000
DTEND;TZID=America/Chicago:20231104T170000
DTSTAMP:20260422T182414
CREATED:20230907T212218Z
LAST-MODIFIED:20230907T212218Z
UID:2479-1699092000-1699117200@www.brookfieldconferencecenter.com
SUMMARY:Kimberly Joy Ministries (KJM)/ FEW Annual Women's Conference
DESCRIPTION:
URL:https://www.brookfieldconferencecenter.com/event/kimberly-joy-ministries-kjm-few-annual-womens-conference/
LOCATION:Brookfield Conference Center\, 325 S. Moorland Rd.\, BROOKFIELD\, WI\, 53005\, United States
END:VEVENT
BEGIN:VEVENT
DTSTART;TZID=America/Chicago:20231017T113000
DTEND;TZID=America/Chicago:20231017T133000
DTSTAMP:20260422T182414
CREATED:20230907T212609Z
LAST-MODIFIED:20230907T212609Z
UID:2484-1697542200-1697549400@www.brookfieldconferencecenter.com
SUMMARY:Celebrating Women Leaders Inspired Journeys Tempo Waukesha
DESCRIPTION:
URL:https://www.brookfieldconferencecenter.com/event/celebrating-women-leaders-inspired-journeys-tempo-waukesha/
LOCATION:Brookfield Conference Center\, 325 S. Moorland Rd.\, BROOKFIELD\, WI\, 53005\, United States
END:VEVENT
BEGIN:VEVENT
DTSTART;VALUE=DATE:20230926
DTEND;VALUE=DATE:20231001
DTSTAMP:20260422T182414
CREATED:20230907T211847Z
LAST-MODIFIED:20230907T211847Z
UID:2477-1695686400-1696118399@www.brookfieldconferencecenter.com
SUMMARY:Divine Consign
DESCRIPTION:
URL:https://www.brookfieldconferencecenter.com/event/divine-consign-4/
LOCATION:Brookfield Conference Center\, 325 S. Moorland Rd.\, BROOKFIELD\, WI\, 53005\, United States
END:VEVENT
BEGIN:VEVENT
DTSTART;TZID=America/Chicago:20230621T080000
DTEND;TZID=America/Chicago:20230621T140000
DTSTAMP:20260422T182414
CREATED:20230609T170947Z
LAST-MODIFIED:20230609T170947Z
UID:2330-1687334400-1687356000@www.brookfieldconferencecenter.com
SUMMARY:Enjoy Life Active Aging Symposium
DESCRIPTION:
URL:https://www.brookfieldconferencecenter.com/event/enjoy-life-active-aging-symposium/
LOCATION:Brookfield Conference Center\, 325 S. Moorland Rd.\, BROOKFIELD\, WI\, 53005\, United States
ORGANIZER;CN="Capri Communities":MAILTO:info@capricommunities.com
END:VEVENT
BEGIN:VEVENT
DTSTART;TZID=America/Chicago:20230415T100000
DTEND;TZID=America/Chicago:20230415T170000
DTSTAMP:20260422T182414
CREATED:20221026T203953Z
LAST-MODIFIED:20221108T181052Z
UID:1984-1681552800-1681578000@www.brookfieldconferencecenter.com
SUMMARY:Dare to be Aware Fair
DESCRIPTION:Share the day with over 100 specialists in health & wellness\, life coaching & personal growth programs\, natural healing\, herbs\, organic items\, sound healers\, psychic readings\, crystals & so much more!  Learn more about lifestyle decisions that enhance your well-being & health- attend any of our FREE classes!
URL:https://www.brookfieldconferencecenter.com/event/dare-to-be-aware-fair/
LOCATION:Brookfield Conference Center\, 325 S. Moorland Rd.\, BROOKFIELD\, WI\, 53005\, United States
END:VEVENT
END:VCALENDAR